BEGIN:VCALENDAR
VERSION:2.0
PRODID:-//Maestro Music Institute - ECPv6.15.18//NONSGML v1.0//EN
CALSCALE:GREGORIAN
METHOD:PUBLISH
X-ORIGINAL-URL:https://maestromusicinstitute.com
X-WR-CALDESC:Events for Maestro Music Institute
REFRESH-INTERVAL;VALUE=DURATION:PT1H
X-Robots-Tag:noindex
X-PUBLISHED-TTL:PT1H
BEGIN:VTIMEZONE
TZID:America/Denver
BEGIN:DAYLIGHT
TZOFFSETFROM:-0700
TZOFFSETTO:-0600
TZNAME:MDT
DTSTART:20210314T090000
END:DAYLIGHT
BEGIN:STANDARD
TZOFFSETFROM:-0600
TZOFFSETTO:-0700
TZNAME:MST
DTSTART:20211107T080000
END:STANDARD
BEGIN:DAYLIGHT
TZOFFSETFROM:-0700
TZOFFSETTO:-0600
TZNAME:MDT
DTSTART:20220313T090000
END:DAYLIGHT
BEGIN:STANDARD
TZOFFSETFROM:-0600
TZOFFSETTO:-0700
TZNAME:MST
DTSTART:20221106T080000
END:STANDARD
BEGIN:DAYLIGHT
TZOFFSETFROM:-0700
TZOFFSETTO:-0600
TZNAME:MDT
DTSTART:20230312T090000
END:DAYLIGHT
BEGIN:STANDARD
TZOFFSETFROM:-0600
TZOFFSETTO:-0700
TZNAME:MST
DTSTART:20231105T080000
END:STANDARD
BEGIN:DAYLIGHT
TZOFFSETFROM:-0700
TZOFFSETTO:-0600
TZNAME:MDT
DTSTART:20240310T090000
END:DAYLIGHT
BEGIN:STANDARD
TZOFFSETFROM:-0600
TZOFFSETTO:-0700
TZNAME:MST
DTSTART:20241103T080000
END:STANDARD
BEGIN:DAYLIGHT
TZOFFSETFROM:-0700
TZOFFSETTO:-0600
TZNAME:MDT
DTSTART:20250309T090000
END:DAYLIGHT
BEGIN:STANDARD
TZOFFSETFROM:-0600
TZOFFSETTO:-0700
TZNAME:MST
DTSTART:20251102T080000
END:STANDARD
BEGIN:DAYLIGHT
TZOFFSETFROM:-0700
TZOFFSETTO:-0600
TZNAME:MDT
DTSTART:20260308T090000
END:DAYLIGHT
BEGIN:STANDARD
TZOFFSETFROM:-0600
TZOFFSETTO:-0700
TZNAME:MST
DTSTART:20261101T080000
END:STANDARD
END:VTIMEZONE
BEGIN:VTIMEZONE
TZID:America/Vancouver
BEGIN:DAYLIGHT
TZOFFSETFROM:-0800
TZOFFSETTO:-0700
TZNAME:PDT
DTSTART:20210314T100000
END:DAYLIGHT
BEGIN:STANDARD
TZOFFSETFROM:-0700
TZOFFSETTO:-0800
TZNAME:PST
DTSTART:20211107T090000
END:STANDARD
BEGIN:DAYLIGHT
TZOFFSETFROM:-0800
TZOFFSETTO:-0700
TZNAME:PDT
DTSTART:20220313T100000
END:DAYLIGHT
BEGIN:STANDARD
TZOFFSETFROM:-0700
TZOFFSETTO:-0800
TZNAME:PST
DTSTART:20221106T090000
END:STANDARD
BEGIN:DAYLIGHT
TZOFFSETFROM:-0800
TZOFFSETTO:-0700
TZNAME:PDT
DTSTART:20230312T100000
END:DAYLIGHT
BEGIN:STANDARD
TZOFFSETFROM:-0700
TZOFFSETTO:-0800
TZNAME:PST
DTSTART:20231105T090000
END:STANDARD
END:VTIMEZONE
BEGIN:VEVENT
DTSTART;TZID=America/Denver:20250510T193000
DTEND;TZID=America/Denver:20250510T203000
DTSTAMP:20260421T072701
CREATED:20240717T150136Z
LAST-MODIFIED:20250114T165232Z
UID:10001252-1746905400-1746909000@maestromusicinstitute.com
SUMMARY:Jordan Beecher Senior Recital
DESCRIPTION:Jordan Beecher Senior Recital \nMay 10th\, 2025\n7:30 – 8:30pm (times are tentative) \nArvada United Methodist Church\n6750 Carr St\, Arvada\, CO 80004
URL:https://maestromusicinstitute.com/event/jordan-beecher-senior-recital/
LOCATION:Arvada United Methodist Church\, 6750 Carr Street\, Arvada\, CO\, 80004\, United States
CATEGORIES:Recital
ATTACH;FMTTYPE=image/jpeg:https://maestromusicinstitute.com/wp-content/uploads/2024/02/CatherineCuellar.jpg
END:VEVENT
BEGIN:VEVENT
DTSTART;TZID=America/Denver:20250510T170000
DTEND;TZID=America/Denver:20250510T183000
DTSTAMP:20260421T072701
CREATED:20250114T165128Z
LAST-MODIFIED:20250114T165128Z
UID:10001585-1746896400-1746901800@maestromusicinstitute.com
SUMMARY:Advanced Spring Recital
DESCRIPTION:Advanced Spring Recital \nMay 10th\, 2025\n5:00 – 6:30pm (times are tentative) \nArvada United Methodist Church\n6750 Carr St\, Arvada\, CO 80004
URL:https://maestromusicinstitute.com/event/advanced-spring-recital/
LOCATION:Arvada United Methodist Church\, 6750 Carr Street\, Arvada\, CO\, 80004\, United States
CATEGORIES:Recital
ATTACH;FMTTYPE=image/jpeg:https://maestromusicinstitute.com/wp-content/uploads/2024/02/CatherineCuellar.jpg
END:VEVENT
BEGIN:VEVENT
DTSTART;TZID=America/Denver:20250510T153000
DTEND;TZID=America/Denver:20250510T170000
DTSTAMP:20260421T072701
CREATED:20250114T165026Z
LAST-MODIFIED:20250114T165026Z
UID:10001584-1746891000-1746896400@maestromusicinstitute.com
SUMMARY:Intermediate Spring Recital
DESCRIPTION:Intermediate Spring Recital \nMay 10th\, 2025\n3:30 – 5:00pm (times are tentative) \nArvada United Methodist Church\n6750 Carr St\, Arvada\, CO 80004
URL:https://maestromusicinstitute.com/event/intermediate-spring-recital/
LOCATION:Arvada United Methodist Church\, 6750 Carr Street\, Arvada\, CO\, 80004\, United States
CATEGORIES:Recital
ATTACH;FMTTYPE=image/jpeg:https://maestromusicinstitute.com/wp-content/uploads/2024/02/CatherineCuellar.jpg
END:VEVENT
BEGIN:VEVENT
DTSTART;TZID=America/Denver:20250509T183000
DTEND;TZID=America/Denver:20250509T203000
DTSTAMP:20260421T072701
CREATED:20240717T145930Z
LAST-MODIFIED:20250114T164809Z
UID:10001251-1746815400-1746822600@maestromusicinstitute.com
SUMMARY:Beginner Spring Recital
DESCRIPTION:Beginner Spring Recital \nMay 9th\, 2025\n6:30 – 8:30pm \nArvada United Methodist Church\n6750 Carr St\, Arvada\, CO 80004
URL:https://maestromusicinstitute.com/event/spring-recital/
LOCATION:Arvada United Methodist Church\, 6750 Carr Street\, Arvada\, CO\, 80004\, United States
CATEGORIES:Recital
ATTACH;FMTTYPE=image/jpeg:https://maestromusicinstitute.com/wp-content/uploads/2024/02/CatherineCuellar.jpg
END:VEVENT
BEGIN:VEVENT
DTSTART;TZID=America/Denver:20250502T182000
DTEND;TZID=America/Denver:20250502T203000
DTSTAMP:20260421T072701
CREATED:20250114T164344Z
LAST-MODIFIED:20250114T164532Z
UID:10001583-1746210000-1746217800@maestromusicinstitute.com
SUMMARY:Senior Showcase
DESCRIPTION:Senior Showcase \nMay 2nd\, 2025\n6:20 – 8:30pm \nArvada United Methodist Church\n6750 Carr St\, Arvada\, CO 80004
URL:https://maestromusicinstitute.com/event/senior-showcase/
LOCATION:Arvada United Methodist Church\, 6750 Carr Street\, Arvada\, CO\, 80004\, United States
CATEGORIES:Recital
ATTACH;FMTTYPE=image/jpeg:https://maestromusicinstitute.com/wp-content/uploads/2024/02/CatherineCuellar.jpg
END:VEVENT
BEGIN:VEVENT
DTSTART;VALUE=DATE:20250426
DTEND;VALUE=DATE:20250427
DTSTAMP:20260421T072701
CREATED:20250114T164014Z
LAST-MODIFIED:20250114T164014Z
UID:10001582-1745625600-1745711999@maestromusicinstitute.com
SUMMARY:Recital Auditions - Time TBD
DESCRIPTION:Spring recital auditions – Time to be announced
URL:https://maestromusicinstitute.com/event/recital-auditions-time-tbd/
LOCATION:Arvada Studio\, 6478 Ward Road\, Arvada\, CO\, 80004\, United States
CATEGORIES:Recital
ATTACH;FMTTYPE=image/jpeg:https://maestromusicinstitute.com/wp-content/uploads/2024/02/CatherineCuellar.jpg
END:VEVENT
BEGIN:VEVENT
DTSTART;VALUE=DATE:20241116
DTEND;VALUE=DATE:20241117
DTSTAMP:20260421T072701
CREATED:20240717T145743Z
LAST-MODIFIED:20240717T145743Z
UID:10001250-1731715200-1731801599@maestromusicinstitute.com
SUMMARY:Fall Recital
DESCRIPTION:Fall Recital – More Details to Come!
URL:https://maestromusicinstitute.com/event/fall-recital/
CATEGORIES:Recital
ATTACH;FMTTYPE=image/jpeg:https://maestromusicinstitute.com/wp-content/uploads/2024/02/CatherineCuellar.jpg
END:VEVENT
BEGIN:VEVENT
DTSTART;TZID=America/Denver:20221029T193000
DTEND;TZID=America/Denver:20221029T210000
DTSTAMP:20260421T072701
CREATED:20220928T171652Z
LAST-MODIFIED:20220928T172606Z
UID:10000037-1667071800-1667077200@maestromusicinstitute.com
SUMMARY:Fall Recital 3 - at 7:30pm
DESCRIPTION:Fall Recital – Recital 3 starts at 7:30 pm\nDenver Location: 216 S Grant Street in the Sanctuary
URL:https://maestromusicinstitute.com/event/fall-recital-recital-3-730pm/
LOCATION:Historic Grant Ave.\, 216 S. Grant Street\,\, Denver\, Colorado\, 80209
CATEGORIES:Recital
END:VEVENT
BEGIN:VEVENT
DTSTART;TZID=America/Vancouver:20221028T173000
DTEND;TZID=America/Vancouver:20221028T183000
DTSTAMP:20260421T072701
CREATED:20220301T151512Z
LAST-MODIFIED:20220928T172255Z
UID:10000022-1666978200-1666981800@maestromusicinstitute.com
SUMMARY:Fall Recital - Recital 1
DESCRIPTION:October 28\, 2022 \nFall Recital – Recital 1 at 5:30 pm – 6:30pm
URL:https://maestromusicinstitute.com/event/fall-recital-general-530pm/
LOCATION:Historic Grant Ave.\, 216 S. Grant Street\,\, Denver\, Colorado\, 80209
CATEGORIES:Recital
END:VEVENT
BEGIN:VEVENT
DTSTART;TZID=America/Denver:20221008T110000
DTEND;TZID=America/Denver:20221008T140000
DTSTAMP:20260421T072701
CREATED:20220928T171220Z
LAST-MODIFIED:20220928T171220Z
UID:10000036-1665226800-1665237600@maestromusicinstitute.com
SUMMARY:Live Auditions at the Arvada Studio at 11 am
DESCRIPTION:Live Auditions at the Arvada Studio at 11 am – 2pm \nThis is for the fall recital. \n 
URL:https://maestromusicinstitute.com/event/live-auditions-at-the-arvada-studio-at-11-am/
CATEGORIES:Recital
END:VEVENT
BEGIN:VEVENT
DTSTART;TZID=America/Vancouver:20220429T190000
DTEND;TZID=America/Vancouver:20220429T200000
DTSTAMP:20260421T072701
CREATED:20220301T151358Z
LAST-MODIFIED:20220301T151358Z
UID:10000021-1651258800-1651262400@maestromusicinstitute.com
SUMMARY:Spring Recital - Auditioned 7:00pm
DESCRIPTION:Friday\, April 29\, 2022 \nAuditioned Recital: 7:00p
URL:https://maestromusicinstitute.com/event/spring-recital-auditioned-700pm/
LOCATION:Historic Grant Ave.\, 216 S. Grant Street\,\, Denver\, Colorado\, 80209
CATEGORIES:Recital
END:VEVENT
BEGIN:VEVENT
DTSTART;TZID=America/Vancouver:20220429T173000
DTEND;TZID=America/Vancouver:20220429T183000
DTSTAMP:20260421T072701
CREATED:20220301T151233Z
LAST-MODIFIED:20220301T151312Z
UID:10000020-1651253400-1651257000@maestromusicinstitute.com
SUMMARY:Spring Recital - General 5:30pm
DESCRIPTION:Friday\, April 29\, 2022 \nGeneral Recital at 5:30p
URL:https://maestromusicinstitute.com/event/spring-recital-general/
LOCATION:Historic Grant Ave.\, 216 S. Grant Street\,\, Denver\, Colorado\, 80209
CATEGORIES:Recital
END:VEVENT
END:VCALENDAR