BEGIN:VCALENDAR
VERSION:2.0
PRODID:-//Maestro Music Institute - ECPv6.15.18//NONSGML v1.0//EN
CALSCALE:GREGORIAN
METHOD:PUBLISH
X-WR-CALNAME:Maestro Music Institute
X-ORIGINAL-URL:https://maestromusicinstitute.com
X-WR-CALDESC:Events for Maestro Music Institute
REFRESH-INTERVAL;VALUE=DURATION:PT1H
X-Robots-Tag:noindex
X-PUBLISHED-TTL:PT1H
BEGIN:VTIMEZONE
TZID:America/Denver
BEGIN:DAYLIGHT
TZOFFSETFROM:-0700
TZOFFSETTO:-0600
TZNAME:MDT
DTSTART:20240310T090000
END:DAYLIGHT
BEGIN:STANDARD
TZOFFSETFROM:-0600
TZOFFSETTO:-0700
TZNAME:MST
DTSTART:20241103T080000
END:STANDARD
BEGIN:DAYLIGHT
TZOFFSETFROM:-0700
TZOFFSETTO:-0600
TZNAME:MDT
DTSTART:20250309T090000
END:DAYLIGHT
BEGIN:STANDARD
TZOFFSETFROM:-0600
TZOFFSETTO:-0700
TZNAME:MST
DTSTART:20251102T080000
END:STANDARD
BEGIN:DAYLIGHT
TZOFFSETFROM:-0700
TZOFFSETTO:-0600
TZNAME:MDT
DTSTART:20260308T090000
END:DAYLIGHT
BEGIN:STANDARD
TZOFFSETFROM:-0600
TZOFFSETTO:-0700
TZNAME:MST
DTSTART:20261101T080000
END:STANDARD
END:VTIMEZONE
BEGIN:VEVENT
DTSTART;VALUE=DATE:20250629
DTEND;VALUE=DATE:20250707
DTSTAMP:20260421T112353
CREATED:20240717T142210Z
LAST-MODIFIED:20240717T142243Z
UID:10001249-1751155200-1751846399@maestromusicinstitute.com
SUMMARY:Closed: Summer Break
DESCRIPTION:Closed for Summer Break: June 29 – July 6th
URL:https://maestromusicinstitute.com/event/closed-summer-break/
ATTACH;FMTTYPE=image/jpeg:https://maestromusicinstitute.com/wp-content/uploads/2024/02/CatherineCuellar.jpg
END:VEVENT
BEGIN:VEVENT
DTSTART;TZID=America/Denver:20250710T190000
DTEND;TZID=America/Denver:20250710T200000
DTSTAMP:20260421T112353
CREATED:20240717T162028Z
LAST-MODIFIED:20250821T170915Z
UID:10001333-1752174000-1752177600@maestromusicinstitute.com
SUMMARY:Rock Band: Summer Session
DESCRIPTION:If you’ve always wanted to be in a rock band – these classes are for you!  We’re inviting students to join our rock band groups where you’ll learn the ins and outs of being in a band\, what it’s like to play alongside other musicians\, to listen to each other and learn how to play off each other through non-verbal cues.  Students participating in these classes will learn the basic form of a song\, they’ll participate in choosing the music their band is going to learn and perform AND they get to choose their own band name! There’s a lot packed into this fun and exciting 8-week session with a live performance at the end … come join the fun! Classes start soon! \nRock Band Class – Classes Held in Studio B\nThursdays: 7:00 – 8:00pm \nSummer  Session: May 15 – August 7th\n*No Rehearsal on 6/26 or 7/3 \nTuition – $275
URL:https://maestromusicinstitute.com/event/rock-band-spring-session/2025-07-10/
LOCATION:Arvada Studio\, 6478 Ward Road\, Arvada\, CO\, 80004\, United States
CATEGORIES:Group Glasses
ATTACH;FMTTYPE=image/jpeg:https://maestromusicinstitute.com/wp-content/uploads/2022/02/RockPhoto.jpg
END:VEVENT
BEGIN:VEVENT
DTSTART;TZID=America/Denver:20250717T190000
DTEND;TZID=America/Denver:20250717T200000
DTSTAMP:20260421T112353
CREATED:20240717T162028Z
LAST-MODIFIED:20250821T170915Z
UID:10001334-1752778800-1752782400@maestromusicinstitute.com
SUMMARY:Rock Band: Summer Session
DESCRIPTION:If you’ve always wanted to be in a rock band – these classes are for you!  We’re inviting students to join our rock band groups where you’ll learn the ins and outs of being in a band\, what it’s like to play alongside other musicians\, to listen to each other and learn how to play off each other through non-verbal cues.  Students participating in these classes will learn the basic form of a song\, they’ll participate in choosing the music their band is going to learn and perform AND they get to choose their own band name! There’s a lot packed into this fun and exciting 8-week session with a live performance at the end … come join the fun! Classes start soon! \nRock Band Class – Classes Held in Studio B\nThursdays: 7:00 – 8:00pm \nSummer  Session: May 15 – August 7th\n*No Rehearsal on 6/26 or 7/3 \nTuition – $275
URL:https://maestromusicinstitute.com/event/rock-band-spring-session/2025-07-17/
LOCATION:Arvada Studio\, 6478 Ward Road\, Arvada\, CO\, 80004\, United States
CATEGORIES:Group Glasses
ATTACH;FMTTYPE=image/jpeg:https://maestromusicinstitute.com/wp-content/uploads/2022/02/RockPhoto.jpg
END:VEVENT
BEGIN:VEVENT
DTSTART;TZID=America/Denver:20250724T190000
DTEND;TZID=America/Denver:20250724T200000
DTSTAMP:20260421T112353
CREATED:20240717T162028Z
LAST-MODIFIED:20250821T170915Z
UID:10001335-1753383600-1753387200@maestromusicinstitute.com
SUMMARY:Rock Band: Summer Session
DESCRIPTION:If you’ve always wanted to be in a rock band – these classes are for you!  We’re inviting students to join our rock band groups where you’ll learn the ins and outs of being in a band\, what it’s like to play alongside other musicians\, to listen to each other and learn how to play off each other through non-verbal cues.  Students participating in these classes will learn the basic form of a song\, they’ll participate in choosing the music their band is going to learn and perform AND they get to choose their own band name! There’s a lot packed into this fun and exciting 8-week session with a live performance at the end … come join the fun! Classes start soon! \nRock Band Class – Classes Held in Studio B\nThursdays: 7:00 – 8:00pm \nSummer  Session: May 15 – August 7th\n*No Rehearsal on 6/26 or 7/3 \nTuition – $275
URL:https://maestromusicinstitute.com/event/rock-band-spring-session/2025-07-24/
LOCATION:Arvada Studio\, 6478 Ward Road\, Arvada\, CO\, 80004\, United States
CATEGORIES:Group Glasses
ATTACH;FMTTYPE=image/jpeg:https://maestromusicinstitute.com/wp-content/uploads/2022/02/RockPhoto.jpg
END:VEVENT
BEGIN:VEVENT
DTSTART;TZID=America/Denver:20250731T190000
DTEND;TZID=America/Denver:20250731T200000
DTSTAMP:20260421T112353
CREATED:20240717T162028Z
LAST-MODIFIED:20250821T170915Z
UID:10001336-1753988400-1753992000@maestromusicinstitute.com
SUMMARY:Rock Band: Summer Session
DESCRIPTION:If you’ve always wanted to be in a rock band – these classes are for you!  We’re inviting students to join our rock band groups where you’ll learn the ins and outs of being in a band\, what it’s like to play alongside other musicians\, to listen to each other and learn how to play off each other through non-verbal cues.  Students participating in these classes will learn the basic form of a song\, they’ll participate in choosing the music their band is going to learn and perform AND they get to choose their own band name! There’s a lot packed into this fun and exciting 8-week session with a live performance at the end … come join the fun! Classes start soon! \nRock Band Class – Classes Held in Studio B\nThursdays: 7:00 – 8:00pm \nSummer  Session: May 15 – August 7th\n*No Rehearsal on 6/26 or 7/3 \nTuition – $275
URL:https://maestromusicinstitute.com/event/rock-band-spring-session/2025-07-31/
LOCATION:Arvada Studio\, 6478 Ward Road\, Arvada\, CO\, 80004\, United States
CATEGORIES:Group Glasses
ATTACH;FMTTYPE=image/jpeg:https://maestromusicinstitute.com/wp-content/uploads/2022/02/RockPhoto.jpg
END:VEVENT
END:VCALENDAR