BEGIN:VCALENDAR
VERSION:2.0
PRODID:-//Maestro Music Institute - ECPv6.15.18//NONSGML v1.0//EN
CALSCALE:GREGORIAN
METHOD:PUBLISH
X-WR-CALNAME:Maestro Music Institute
X-ORIGINAL-URL:https://maestromusicinstitute.com
X-WR-CALDESC:Events for Maestro Music Institute
REFRESH-INTERVAL;VALUE=DURATION:PT1H
X-Robots-Tag:noindex
X-PUBLISHED-TTL:PT1H
BEGIN:VTIMEZONE
TZID:America/Denver
BEGIN:DAYLIGHT
TZOFFSETFROM:-0700
TZOFFSETTO:-0600
TZNAME:MDT
DTSTART:20250309T090000
END:DAYLIGHT
BEGIN:STANDARD
TZOFFSETFROM:-0600
TZOFFSETTO:-0700
TZNAME:MST
DTSTART:20251102T080000
END:STANDARD
BEGIN:DAYLIGHT
TZOFFSETFROM:-0700
TZOFFSETTO:-0600
TZNAME:MDT
DTSTART:20260308T090000
END:DAYLIGHT
BEGIN:STANDARD
TZOFFSETFROM:-0600
TZOFFSETTO:-0700
TZNAME:MST
DTSTART:20261101T080000
END:STANDARD
BEGIN:DAYLIGHT
TZOFFSETFROM:-0700
TZOFFSETTO:-0600
TZNAME:MDT
DTSTART:20270314T090000
END:DAYLIGHT
BEGIN:STANDARD
TZOFFSETFROM:-0600
TZOFFSETTO:-0700
TZNAME:MST
DTSTART:20271107T080000
END:STANDARD
END:VTIMEZONE
BEGIN:VEVENT
DTSTART;TZID=America/Denver:20260706T140000
DTEND;TZID=America/Denver:20260706T150000
DTSTAMP:20260421T041601
CREATED:20260407T154127Z
LAST-MODIFIED:20260407T154127Z
UID:10005630-1783346400-1783350000@maestromusicinstitute.com
SUMMARY:Rock Band: Summer Session
DESCRIPTION:Rock Band Summer Session is going to be a fun and exciting intensive course focused on band cohesion\, how to listen to each other while playing\, how to recover when things don’t go as planned\, comping\, taking solos\, building band repertoire and generally supporting each other as a group. This intensive course will be 3 weeks in duration\, meeting Monday-Thursday (daily) from 2-3pm\, and runs July 6-23 in Studio B. There will be no performance scheduled at the end of this class. \nRock Band Class – Classes Held in Studio B\nMonday through Thursday (daily): 2:00 – 3:00pm \nSession: July 6 – 23rd \nTuition – $350
URL:https://maestromusicinstitute.com/event/rock-band-summer-session/2026-07-06/
LOCATION:Arvada Studio\, 6478 Ward Road\, Arvada\, CO\, 80004\, United States
CATEGORIES:Group Glasses
ATTACH;FMTTYPE=image/jpeg:https://maestromusicinstitute.com/wp-content/uploads/2022/02/RockPhoto.jpg
END:VEVENT
BEGIN:VEVENT
DTSTART;TZID=America/Denver:20260707T140000
DTEND;TZID=America/Denver:20260707T150000
DTSTAMP:20260421T041601
CREATED:20260407T154127Z
LAST-MODIFIED:20260407T154127Z
UID:10005631-1783432800-1783436400@maestromusicinstitute.com
SUMMARY:Rock Band: Summer Session
DESCRIPTION:Rock Band Summer Session is going to be a fun and exciting intensive course focused on band cohesion\, how to listen to each other while playing\, how to recover when things don’t go as planned\, comping\, taking solos\, building band repertoire and generally supporting each other as a group. This intensive course will be 3 weeks in duration\, meeting Monday-Thursday (daily) from 2-3pm\, and runs July 6-23 in Studio B. There will be no performance scheduled at the end of this class. \nRock Band Class – Classes Held in Studio B\nMonday through Thursday (daily): 2:00 – 3:00pm \nSession: July 6 – 23rd \nTuition – $350
URL:https://maestromusicinstitute.com/event/rock-band-summer-session/2026-07-07/
LOCATION:Arvada Studio\, 6478 Ward Road\, Arvada\, CO\, 80004\, United States
CATEGORIES:Group Glasses
ATTACH;FMTTYPE=image/jpeg:https://maestromusicinstitute.com/wp-content/uploads/2022/02/RockPhoto.jpg
END:VEVENT
BEGIN:VEVENT
DTSTART;TZID=America/Denver:20260708T140000
DTEND;TZID=America/Denver:20260708T150000
DTSTAMP:20260421T041601
CREATED:20260407T154127Z
LAST-MODIFIED:20260407T154127Z
UID:10005632-1783519200-1783522800@maestromusicinstitute.com
SUMMARY:Rock Band: Summer Session
DESCRIPTION:Rock Band Summer Session is going to be a fun and exciting intensive course focused on band cohesion\, how to listen to each other while playing\, how to recover when things don’t go as planned\, comping\, taking solos\, building band repertoire and generally supporting each other as a group. This intensive course will be 3 weeks in duration\, meeting Monday-Thursday (daily) from 2-3pm\, and runs July 6-23 in Studio B. There will be no performance scheduled at the end of this class. \nRock Band Class – Classes Held in Studio B\nMonday through Thursday (daily): 2:00 – 3:00pm \nSession: July 6 – 23rd \nTuition – $350
URL:https://maestromusicinstitute.com/event/rock-band-summer-session/2026-07-08/
LOCATION:Arvada Studio\, 6478 Ward Road\, Arvada\, CO\, 80004\, United States
CATEGORIES:Group Glasses
ATTACH;FMTTYPE=image/jpeg:https://maestromusicinstitute.com/wp-content/uploads/2022/02/RockPhoto.jpg
END:VEVENT
BEGIN:VEVENT
DTSTART;TZID=America/Denver:20260709T140000
DTEND;TZID=America/Denver:20260709T150000
DTSTAMP:20260421T041601
CREATED:20260407T154127Z
LAST-MODIFIED:20260407T154127Z
UID:10005633-1783605600-1783609200@maestromusicinstitute.com
SUMMARY:Rock Band: Summer Session
DESCRIPTION:Rock Band Summer Session is going to be a fun and exciting intensive course focused on band cohesion\, how to listen to each other while playing\, how to recover when things don’t go as planned\, comping\, taking solos\, building band repertoire and generally supporting each other as a group. This intensive course will be 3 weeks in duration\, meeting Monday-Thursday (daily) from 2-3pm\, and runs July 6-23 in Studio B. There will be no performance scheduled at the end of this class. \nRock Band Class – Classes Held in Studio B\nMonday through Thursday (daily): 2:00 – 3:00pm \nSession: July 6 – 23rd \nTuition – $350
URL:https://maestromusicinstitute.com/event/rock-band-summer-session/2026-07-09/
LOCATION:Arvada Studio\, 6478 Ward Road\, Arvada\, CO\, 80004\, United States
CATEGORIES:Group Glasses
ATTACH;FMTTYPE=image/jpeg:https://maestromusicinstitute.com/wp-content/uploads/2022/02/RockPhoto.jpg
END:VEVENT
BEGIN:VEVENT
DTSTART;TZID=America/Denver:20260713T140000
DTEND;TZID=America/Denver:20260713T150000
DTSTAMP:20260421T041601
CREATED:20260407T154127Z
LAST-MODIFIED:20260407T154127Z
UID:10005634-1783951200-1783954800@maestromusicinstitute.com
SUMMARY:Rock Band: Summer Session
DESCRIPTION:Rock Band Summer Session is going to be a fun and exciting intensive course focused on band cohesion\, how to listen to each other while playing\, how to recover when things don’t go as planned\, comping\, taking solos\, building band repertoire and generally supporting each other as a group. This intensive course will be 3 weeks in duration\, meeting Monday-Thursday (daily) from 2-3pm\, and runs July 6-23 in Studio B. There will be no performance scheduled at the end of this class. \nRock Band Class – Classes Held in Studio B\nMonday through Thursday (daily): 2:00 – 3:00pm \nSession: July 6 – 23rd \nTuition – $350
URL:https://maestromusicinstitute.com/event/rock-band-summer-session/2026-07-13/
LOCATION:Arvada Studio\, 6478 Ward Road\, Arvada\, CO\, 80004\, United States
CATEGORIES:Group Glasses
ATTACH;FMTTYPE=image/jpeg:https://maestromusicinstitute.com/wp-content/uploads/2022/02/RockPhoto.jpg
END:VEVENT
BEGIN:VEVENT
DTSTART;TZID=America/Denver:20260714T140000
DTEND;TZID=America/Denver:20260714T150000
DTSTAMP:20260421T041601
CREATED:20260407T154127Z
LAST-MODIFIED:20260407T154127Z
UID:10005635-1784037600-1784041200@maestromusicinstitute.com
SUMMARY:Rock Band: Summer Session
DESCRIPTION:Rock Band Summer Session is going to be a fun and exciting intensive course focused on band cohesion\, how to listen to each other while playing\, how to recover when things don’t go as planned\, comping\, taking solos\, building band repertoire and generally supporting each other as a group. This intensive course will be 3 weeks in duration\, meeting Monday-Thursday (daily) from 2-3pm\, and runs July 6-23 in Studio B. There will be no performance scheduled at the end of this class. \nRock Band Class – Classes Held in Studio B\nMonday through Thursday (daily): 2:00 – 3:00pm \nSession: July 6 – 23rd \nTuition – $350
URL:https://maestromusicinstitute.com/event/rock-band-summer-session/2026-07-14/
LOCATION:Arvada Studio\, 6478 Ward Road\, Arvada\, CO\, 80004\, United States
CATEGORIES:Group Glasses
ATTACH;FMTTYPE=image/jpeg:https://maestromusicinstitute.com/wp-content/uploads/2022/02/RockPhoto.jpg
END:VEVENT
BEGIN:VEVENT
DTSTART;TZID=America/Denver:20260715T140000
DTEND;TZID=America/Denver:20260715T150000
DTSTAMP:20260421T041601
CREATED:20260407T154127Z
LAST-MODIFIED:20260407T154127Z
UID:10005636-1784124000-1784127600@maestromusicinstitute.com
SUMMARY:Rock Band: Summer Session
DESCRIPTION:Rock Band Summer Session is going to be a fun and exciting intensive course focused on band cohesion\, how to listen to each other while playing\, how to recover when things don’t go as planned\, comping\, taking solos\, building band repertoire and generally supporting each other as a group. This intensive course will be 3 weeks in duration\, meeting Monday-Thursday (daily) from 2-3pm\, and runs July 6-23 in Studio B. There will be no performance scheduled at the end of this class. \nRock Band Class – Classes Held in Studio B\nMonday through Thursday (daily): 2:00 – 3:00pm \nSession: July 6 – 23rd \nTuition – $350
URL:https://maestromusicinstitute.com/event/rock-band-summer-session/2026-07-15/
LOCATION:Arvada Studio\, 6478 Ward Road\, Arvada\, CO\, 80004\, United States
CATEGORIES:Group Glasses
ATTACH;FMTTYPE=image/jpeg:https://maestromusicinstitute.com/wp-content/uploads/2022/02/RockPhoto.jpg
END:VEVENT
BEGIN:VEVENT
DTSTART;TZID=America/Denver:20260716T140000
DTEND;TZID=America/Denver:20260716T150000
DTSTAMP:20260421T041601
CREATED:20260407T154127Z
LAST-MODIFIED:20260407T154127Z
UID:10005637-1784210400-1784214000@maestromusicinstitute.com
SUMMARY:Rock Band: Summer Session
DESCRIPTION:Rock Band Summer Session is going to be a fun and exciting intensive course focused on band cohesion\, how to listen to each other while playing\, how to recover when things don’t go as planned\, comping\, taking solos\, building band repertoire and generally supporting each other as a group. This intensive course will be 3 weeks in duration\, meeting Monday-Thursday (daily) from 2-3pm\, and runs July 6-23 in Studio B. There will be no performance scheduled at the end of this class. \nRock Band Class – Classes Held in Studio B\nMonday through Thursday (daily): 2:00 – 3:00pm \nSession: July 6 – 23rd \nTuition – $350
URL:https://maestromusicinstitute.com/event/rock-band-summer-session/2026-07-16/
LOCATION:Arvada Studio\, 6478 Ward Road\, Arvada\, CO\, 80004\, United States
CATEGORIES:Group Glasses
ATTACH;FMTTYPE=image/jpeg:https://maestromusicinstitute.com/wp-content/uploads/2022/02/RockPhoto.jpg
END:VEVENT
BEGIN:VEVENT
DTSTART;TZID=America/Denver:20260720T140000
DTEND;TZID=America/Denver:20260720T150000
DTSTAMP:20260421T041601
CREATED:20260407T154127Z
LAST-MODIFIED:20260407T154127Z
UID:10005638-1784556000-1784559600@maestromusicinstitute.com
SUMMARY:Rock Band: Summer Session
DESCRIPTION:Rock Band Summer Session is going to be a fun and exciting intensive course focused on band cohesion\, how to listen to each other while playing\, how to recover when things don’t go as planned\, comping\, taking solos\, building band repertoire and generally supporting each other as a group. This intensive course will be 3 weeks in duration\, meeting Monday-Thursday (daily) from 2-3pm\, and runs July 6-23 in Studio B. There will be no performance scheduled at the end of this class. \nRock Band Class – Classes Held in Studio B\nMonday through Thursday (daily): 2:00 – 3:00pm \nSession: July 6 – 23rd \nTuition – $350
URL:https://maestromusicinstitute.com/event/rock-band-summer-session/2026-07-20/
LOCATION:Arvada Studio\, 6478 Ward Road\, Arvada\, CO\, 80004\, United States
CATEGORIES:Group Glasses
ATTACH;FMTTYPE=image/jpeg:https://maestromusicinstitute.com/wp-content/uploads/2022/02/RockPhoto.jpg
END:VEVENT
BEGIN:VEVENT
DTSTART;TZID=America/Denver:20260721T140000
DTEND;TZID=America/Denver:20260721T150000
DTSTAMP:20260421T041601
CREATED:20260407T154127Z
LAST-MODIFIED:20260407T154127Z
UID:10005639-1784642400-1784646000@maestromusicinstitute.com
SUMMARY:Rock Band: Summer Session
DESCRIPTION:Rock Band Summer Session is going to be a fun and exciting intensive course focused on band cohesion\, how to listen to each other while playing\, how to recover when things don’t go as planned\, comping\, taking solos\, building band repertoire and generally supporting each other as a group. This intensive course will be 3 weeks in duration\, meeting Monday-Thursday (daily) from 2-3pm\, and runs July 6-23 in Studio B. There will be no performance scheduled at the end of this class. \nRock Band Class – Classes Held in Studio B\nMonday through Thursday (daily): 2:00 – 3:00pm \nSession: July 6 – 23rd \nTuition – $350
URL:https://maestromusicinstitute.com/event/rock-band-summer-session/2026-07-21/
LOCATION:Arvada Studio\, 6478 Ward Road\, Arvada\, CO\, 80004\, United States
CATEGORIES:Group Glasses
ATTACH;FMTTYPE=image/jpeg:https://maestromusicinstitute.com/wp-content/uploads/2022/02/RockPhoto.jpg
END:VEVENT
BEGIN:VEVENT
DTSTART;TZID=America/Denver:20260722T140000
DTEND;TZID=America/Denver:20260722T150000
DTSTAMP:20260421T041601
CREATED:20260407T154127Z
LAST-MODIFIED:20260407T154127Z
UID:10005640-1784728800-1784732400@maestromusicinstitute.com
SUMMARY:Rock Band: Summer Session
DESCRIPTION:Rock Band Summer Session is going to be a fun and exciting intensive course focused on band cohesion\, how to listen to each other while playing\, how to recover when things don’t go as planned\, comping\, taking solos\, building band repertoire and generally supporting each other as a group. This intensive course will be 3 weeks in duration\, meeting Monday-Thursday (daily) from 2-3pm\, and runs July 6-23 in Studio B. There will be no performance scheduled at the end of this class. \nRock Band Class – Classes Held in Studio B\nMonday through Thursday (daily): 2:00 – 3:00pm \nSession: July 6 – 23rd \nTuition – $350
URL:https://maestromusicinstitute.com/event/rock-band-summer-session/2026-07-22/
LOCATION:Arvada Studio\, 6478 Ward Road\, Arvada\, CO\, 80004\, United States
CATEGORIES:Group Glasses
ATTACH;FMTTYPE=image/jpeg:https://maestromusicinstitute.com/wp-content/uploads/2022/02/RockPhoto.jpg
END:VEVENT
BEGIN:VEVENT
DTSTART;TZID=America/Denver:20260723T140000
DTEND;TZID=America/Denver:20260723T150000
DTSTAMP:20260421T041601
CREATED:20260407T154127Z
LAST-MODIFIED:20260407T154127Z
UID:10005641-1784815200-1784818800@maestromusicinstitute.com
SUMMARY:Rock Band: Summer Session
DESCRIPTION:Rock Band Summer Session is going to be a fun and exciting intensive course focused on band cohesion\, how to listen to each other while playing\, how to recover when things don’t go as planned\, comping\, taking solos\, building band repertoire and generally supporting each other as a group. This intensive course will be 3 weeks in duration\, meeting Monday-Thursday (daily) from 2-3pm\, and runs July 6-23 in Studio B. There will be no performance scheduled at the end of this class. \nRock Band Class – Classes Held in Studio B\nMonday through Thursday (daily): 2:00 – 3:00pm \nSession: July 6 – 23rd \nTuition – $350
URL:https://maestromusicinstitute.com/event/rock-band-summer-session/2026-07-23/
LOCATION:Arvada Studio\, 6478 Ward Road\, Arvada\, CO\, 80004\, United States
CATEGORIES:Group Glasses
ATTACH;FMTTYPE=image/jpeg:https://maestromusicinstitute.com/wp-content/uploads/2022/02/RockPhoto.jpg
END:VEVENT
END:VCALENDAR