BEGIN:VCALENDAR
VERSION:2.0
PRODID:-//Maestro Music Institute - ECPv6.15.18//NONSGML v1.0//EN
CALSCALE:GREGORIAN
METHOD:PUBLISH
X-WR-CALNAME:Maestro Music Institute
X-ORIGINAL-URL:https://maestromusicinstitute.com
X-WR-CALDESC:Events for Maestro Music Institute
REFRESH-INTERVAL;VALUE=DURATION:PT1H
X-Robots-Tag:noindex
X-PUBLISHED-TTL:PT1H
BEGIN:VTIMEZONE
TZID:America/Denver
BEGIN:DAYLIGHT
TZOFFSETFROM:-0700
TZOFFSETTO:-0600
TZNAME:MDT
DTSTART:20250309T090000
END:DAYLIGHT
BEGIN:STANDARD
TZOFFSETFROM:-0600
TZOFFSETTO:-0700
TZNAME:MST
DTSTART:20251102T080000
END:STANDARD
BEGIN:DAYLIGHT
TZOFFSETFROM:-0700
TZOFFSETTO:-0600
TZNAME:MDT
DTSTART:20260308T090000
END:DAYLIGHT
BEGIN:STANDARD
TZOFFSETFROM:-0600
TZOFFSETTO:-0700
TZNAME:MST
DTSTART:20261101T080000
END:STANDARD
BEGIN:DAYLIGHT
TZOFFSETFROM:-0700
TZOFFSETTO:-0600
TZNAME:MDT
DTSTART:20270314T090000
END:DAYLIGHT
BEGIN:STANDARD
TZOFFSETFROM:-0600
TZOFFSETTO:-0700
TZNAME:MST
DTSTART:20271107T080000
END:STANDARD
END:VTIMEZONE
BEGIN:VEVENT
DTSTART;TZID=America/Denver:20260902T180000
DTEND;TZID=America/Denver:20260902T190000
DTSTAMP:20260421T062339
CREATED:20260408T145558Z
LAST-MODIFIED:20260408T145558Z
UID:10005697-1788372000-1788375600@maestromusicinstitute.com
SUMMARY:Voice Class: Fall Session
DESCRIPTION:Do you love to sing? Come join class voice with us!  This 12-week class is for beginner students with little to no previous training in singing and/or music. Open to students ages 10 and up. Students will learn proper warm-up techniques\, choose repertoire with the instructor\, learn stage presence and have opportunities to perform in front of their class. Students will be allowed to perform in fall recital if they choose and the December Rock band performance. \nVoice Class\nWednesdays : 6:00 – 7:00pm\nAges: 10+ years \nFall Session: September 2 – November 4 \nTuition – $350 + $35 Registration Fee
URL:https://maestromusicinstitute.com/event/voice-class-fall-session-3/2026-09-02/
LOCATION:Arvada Studio\, 6478 Ward Road\, Arvada\, CO\, 80004\, United States
CATEGORIES:Group Glasses
ATTACH;FMTTYPE=image/jpeg:https://maestromusicinstitute.com/wp-content/uploads/2020/02/jv-camp1.jpg
END:VEVENT
BEGIN:VEVENT
DTSTART;TZID=America/Denver:20260909T180000
DTEND;TZID=America/Denver:20260909T190000
DTSTAMP:20260421T062339
CREATED:20260408T145558Z
LAST-MODIFIED:20260408T145558Z
UID:10005698-1788976800-1788980400@maestromusicinstitute.com
SUMMARY:Voice Class: Fall Session
DESCRIPTION:Do you love to sing? Come join class voice with us!  This 12-week class is for beginner students with little to no previous training in singing and/or music. Open to students ages 10 and up. Students will learn proper warm-up techniques\, choose repertoire with the instructor\, learn stage presence and have opportunities to perform in front of their class. Students will be allowed to perform in fall recital if they choose and the December Rock band performance. \nVoice Class\nWednesdays : 6:00 – 7:00pm\nAges: 10+ years \nFall Session: September 2 – November 4 \nTuition – $350 + $35 Registration Fee
URL:https://maestromusicinstitute.com/event/voice-class-fall-session-3/2026-09-09/
LOCATION:Arvada Studio\, 6478 Ward Road\, Arvada\, CO\, 80004\, United States
CATEGORIES:Group Glasses
ATTACH;FMTTYPE=image/jpeg:https://maestromusicinstitute.com/wp-content/uploads/2020/02/jv-camp1.jpg
END:VEVENT
BEGIN:VEVENT
DTSTART;TZID=America/Denver:20260916T180000
DTEND;TZID=America/Denver:20260916T190000
DTSTAMP:20260421T062339
CREATED:20260408T145558Z
LAST-MODIFIED:20260408T145558Z
UID:10005699-1789581600-1789585200@maestromusicinstitute.com
SUMMARY:Voice Class: Fall Session
DESCRIPTION:Do you love to sing? Come join class voice with us!  This 12-week class is for beginner students with little to no previous training in singing and/or music. Open to students ages 10 and up. Students will learn proper warm-up techniques\, choose repertoire with the instructor\, learn stage presence and have opportunities to perform in front of their class. Students will be allowed to perform in fall recital if they choose and the December Rock band performance. \nVoice Class\nWednesdays : 6:00 – 7:00pm\nAges: 10+ years \nFall Session: September 2 – November 4 \nTuition – $350 + $35 Registration Fee
URL:https://maestromusicinstitute.com/event/voice-class-fall-session-3/2026-09-16/
LOCATION:Arvada Studio\, 6478 Ward Road\, Arvada\, CO\, 80004\, United States
CATEGORIES:Group Glasses
ATTACH;FMTTYPE=image/jpeg:https://maestromusicinstitute.com/wp-content/uploads/2020/02/jv-camp1.jpg
END:VEVENT
BEGIN:VEVENT
DTSTART;TZID=America/Denver:20260923T180000
DTEND;TZID=America/Denver:20260923T190000
DTSTAMP:20260421T062339
CREATED:20260408T145558Z
LAST-MODIFIED:20260408T145558Z
UID:10005700-1790186400-1790190000@maestromusicinstitute.com
SUMMARY:Voice Class: Fall Session
DESCRIPTION:Do you love to sing? Come join class voice with us!  This 12-week class is for beginner students with little to no previous training in singing and/or music. Open to students ages 10 and up. Students will learn proper warm-up techniques\, choose repertoire with the instructor\, learn stage presence and have opportunities to perform in front of their class. Students will be allowed to perform in fall recital if they choose and the December Rock band performance. \nVoice Class\nWednesdays : 6:00 – 7:00pm\nAges: 10+ years \nFall Session: September 2 – November 4 \nTuition – $350 + $35 Registration Fee
URL:https://maestromusicinstitute.com/event/voice-class-fall-session-3/2026-09-23/
LOCATION:Arvada Studio\, 6478 Ward Road\, Arvada\, CO\, 80004\, United States
CATEGORIES:Group Glasses
ATTACH;FMTTYPE=image/jpeg:https://maestromusicinstitute.com/wp-content/uploads/2020/02/jv-camp1.jpg
END:VEVENT
BEGIN:VEVENT
DTSTART;TZID=America/Denver:20260930T180000
DTEND;TZID=America/Denver:20260930T190000
DTSTAMP:20260421T062339
CREATED:20260408T145558Z
LAST-MODIFIED:20260408T145558Z
UID:10005701-1790791200-1790794800@maestromusicinstitute.com
SUMMARY:Voice Class: Fall Session
DESCRIPTION:Do you love to sing? Come join class voice with us!  This 12-week class is for beginner students with little to no previous training in singing and/or music. Open to students ages 10 and up. Students will learn proper warm-up techniques\, choose repertoire with the instructor\, learn stage presence and have opportunities to perform in front of their class. Students will be allowed to perform in fall recital if they choose and the December Rock band performance. \nVoice Class\nWednesdays : 6:00 – 7:00pm\nAges: 10+ years \nFall Session: September 2 – November 4 \nTuition – $350 + $35 Registration Fee
URL:https://maestromusicinstitute.com/event/voice-class-fall-session-3/2026-09-30/
LOCATION:Arvada Studio\, 6478 Ward Road\, Arvada\, CO\, 80004\, United States
CATEGORIES:Group Glasses
ATTACH;FMTTYPE=image/jpeg:https://maestromusicinstitute.com/wp-content/uploads/2020/02/jv-camp1.jpg
END:VEVENT
BEGIN:VEVENT
DTSTART;TZID=America/Denver:20261007T180000
DTEND;TZID=America/Denver:20261007T190000
DTSTAMP:20260421T062339
CREATED:20260408T145558Z
LAST-MODIFIED:20260408T145558Z
UID:10005702-1791396000-1791399600@maestromusicinstitute.com
SUMMARY:Voice Class: Fall Session
DESCRIPTION:Do you love to sing? Come join class voice with us!  This 12-week class is for beginner students with little to no previous training in singing and/or music. Open to students ages 10 and up. Students will learn proper warm-up techniques\, choose repertoire with the instructor\, learn stage presence and have opportunities to perform in front of their class. Students will be allowed to perform in fall recital if they choose and the December Rock band performance. \nVoice Class\nWednesdays : 6:00 – 7:00pm\nAges: 10+ years \nFall Session: September 2 – November 4 \nTuition – $350 + $35 Registration Fee
URL:https://maestromusicinstitute.com/event/voice-class-fall-session-3/2026-10-07/
LOCATION:Arvada Studio\, 6478 Ward Road\, Arvada\, CO\, 80004\, United States
CATEGORIES:Group Glasses
ATTACH;FMTTYPE=image/jpeg:https://maestromusicinstitute.com/wp-content/uploads/2020/02/jv-camp1.jpg
END:VEVENT
BEGIN:VEVENT
DTSTART;TZID=America/Denver:20261014T180000
DTEND;TZID=America/Denver:20261014T190000
DTSTAMP:20260421T062339
CREATED:20260408T145558Z
LAST-MODIFIED:20260408T145558Z
UID:10005703-1792000800-1792004400@maestromusicinstitute.com
SUMMARY:Voice Class: Fall Session
DESCRIPTION:Do you love to sing? Come join class voice with us!  This 12-week class is for beginner students with little to no previous training in singing and/or music. Open to students ages 10 and up. Students will learn proper warm-up techniques\, choose repertoire with the instructor\, learn stage presence and have opportunities to perform in front of their class. Students will be allowed to perform in fall recital if they choose and the December Rock band performance. \nVoice Class\nWednesdays : 6:00 – 7:00pm\nAges: 10+ years \nFall Session: September 2 – November 4 \nTuition – $350 + $35 Registration Fee
URL:https://maestromusicinstitute.com/event/voice-class-fall-session-3/2026-10-14/
LOCATION:Arvada Studio\, 6478 Ward Road\, Arvada\, CO\, 80004\, United States
CATEGORIES:Group Glasses
ATTACH;FMTTYPE=image/jpeg:https://maestromusicinstitute.com/wp-content/uploads/2020/02/jv-camp1.jpg
END:VEVENT
BEGIN:VEVENT
DTSTART;TZID=America/Denver:20261021T180000
DTEND;TZID=America/Denver:20261021T190000
DTSTAMP:20260421T062339
CREATED:20260408T145558Z
LAST-MODIFIED:20260408T145558Z
UID:10005704-1792605600-1792609200@maestromusicinstitute.com
SUMMARY:Voice Class: Fall Session
DESCRIPTION:Do you love to sing? Come join class voice with us!  This 12-week class is for beginner students with little to no previous training in singing and/or music. Open to students ages 10 and up. Students will learn proper warm-up techniques\, choose repertoire with the instructor\, learn stage presence and have opportunities to perform in front of their class. Students will be allowed to perform in fall recital if they choose and the December Rock band performance. \nVoice Class\nWednesdays : 6:00 – 7:00pm\nAges: 10+ years \nFall Session: September 2 – November 4 \nTuition – $350 + $35 Registration Fee
URL:https://maestromusicinstitute.com/event/voice-class-fall-session-3/2026-10-21/
LOCATION:Arvada Studio\, 6478 Ward Road\, Arvada\, CO\, 80004\, United States
CATEGORIES:Group Glasses
ATTACH;FMTTYPE=image/jpeg:https://maestromusicinstitute.com/wp-content/uploads/2020/02/jv-camp1.jpg
END:VEVENT
BEGIN:VEVENT
DTSTART;TZID=America/Denver:20261028T180000
DTEND;TZID=America/Denver:20261028T190000
DTSTAMP:20260421T062339
CREATED:20260408T145558Z
LAST-MODIFIED:20260408T145558Z
UID:10005705-1793210400-1793214000@maestromusicinstitute.com
SUMMARY:Voice Class: Fall Session
DESCRIPTION:Do you love to sing? Come join class voice with us!  This 12-week class is for beginner students with little to no previous training in singing and/or music. Open to students ages 10 and up. Students will learn proper warm-up techniques\, choose repertoire with the instructor\, learn stage presence and have opportunities to perform in front of their class. Students will be allowed to perform in fall recital if they choose and the December Rock band performance. \nVoice Class\nWednesdays : 6:00 – 7:00pm\nAges: 10+ years \nFall Session: September 2 – November 4 \nTuition – $350 + $35 Registration Fee
URL:https://maestromusicinstitute.com/event/voice-class-fall-session-3/2026-10-28/
LOCATION:Arvada Studio\, 6478 Ward Road\, Arvada\, CO\, 80004\, United States
CATEGORIES:Group Glasses
ATTACH;FMTTYPE=image/jpeg:https://maestromusicinstitute.com/wp-content/uploads/2020/02/jv-camp1.jpg
END:VEVENT
BEGIN:VEVENT
DTSTART;TZID=America/Denver:20261104T180000
DTEND;TZID=America/Denver:20261104T190000
DTSTAMP:20260421T062339
CREATED:20260408T145558Z
LAST-MODIFIED:20260408T145558Z
UID:10005706-1793815200-1793818800@maestromusicinstitute.com
SUMMARY:Voice Class: Fall Session
DESCRIPTION:Do you love to sing? Come join class voice with us!  This 12-week class is for beginner students with little to no previous training in singing and/or music. Open to students ages 10 and up. Students will learn proper warm-up techniques\, choose repertoire with the instructor\, learn stage presence and have opportunities to perform in front of their class. Students will be allowed to perform in fall recital if they choose and the December Rock band performance. \nVoice Class\nWednesdays : 6:00 – 7:00pm\nAges: 10+ years \nFall Session: September 2 – November 4 \nTuition – $350 + $35 Registration Fee
URL:https://maestromusicinstitute.com/event/voice-class-fall-session-3/2026-11-04/
LOCATION:Arvada Studio\, 6478 Ward Road\, Arvada\, CO\, 80004\, United States
CATEGORIES:Group Glasses
ATTACH;FMTTYPE=image/jpeg:https://maestromusicinstitute.com/wp-content/uploads/2020/02/jv-camp1.jpg
END:VEVENT
END:VCALENDAR