BEGIN:VCALENDAR
VERSION:2.0
PRODID:-//Maestro Music Institute - ECPv6.15.18//NONSGML v1.0//EN
CALSCALE:GREGORIAN
METHOD:PUBLISH
X-WR-CALNAME:Maestro Music Institute
X-ORIGINAL-URL:https://maestromusicinstitute.com
X-WR-CALDESC:Events for Maestro Music Institute
REFRESH-INTERVAL;VALUE=DURATION:PT1H
X-Robots-Tag:noindex
X-PUBLISHED-TTL:PT1H
BEGIN:VTIMEZONE
TZID:America/Denver
BEGIN:DAYLIGHT
TZOFFSETFROM:-0700
TZOFFSETTO:-0600
TZNAME:MDT
DTSTART:20210314T090000
END:DAYLIGHT
BEGIN:STANDARD
TZOFFSETFROM:-0600
TZOFFSETTO:-0700
TZNAME:MST
DTSTART:20211107T080000
END:STANDARD
BEGIN:DAYLIGHT
TZOFFSETFROM:-0700
TZOFFSETTO:-0600
TZNAME:MDT
DTSTART:20220313T090000
END:DAYLIGHT
BEGIN:STANDARD
TZOFFSETFROM:-0600
TZOFFSETTO:-0700
TZNAME:MST
DTSTART:20221106T080000
END:STANDARD
BEGIN:DAYLIGHT
TZOFFSETFROM:-0700
TZOFFSETTO:-0600
TZNAME:MDT
DTSTART:20230312T090000
END:DAYLIGHT
BEGIN:STANDARD
TZOFFSETFROM:-0600
TZOFFSETTO:-0700
TZNAME:MST
DTSTART:20231105T080000
END:STANDARD
BEGIN:DAYLIGHT
TZOFFSETFROM:-0700
TZOFFSETTO:-0600
TZNAME:MDT
DTSTART:20240310T090000
END:DAYLIGHT
BEGIN:STANDARD
TZOFFSETFROM:-0600
TZOFFSETTO:-0700
TZNAME:MST
DTSTART:20241103T080000
END:STANDARD
END:VTIMEZONE
BEGIN:VTIMEZONE
TZID:America/Vancouver
BEGIN:DAYLIGHT
TZOFFSETFROM:-0800
TZOFFSETTO:-0700
TZNAME:PDT
DTSTART:20210314T100000
END:DAYLIGHT
BEGIN:STANDARD
TZOFFSETFROM:-0700
TZOFFSETTO:-0800
TZNAME:PST
DTSTART:20211107T090000
END:STANDARD
BEGIN:DAYLIGHT
TZOFFSETFROM:-0800
TZOFFSETTO:-0700
TZNAME:PDT
DTSTART:20220313T100000
END:DAYLIGHT
BEGIN:STANDARD
TZOFFSETFROM:-0700
TZOFFSETTO:-0800
TZNAME:PST
DTSTART:20221106T090000
END:STANDARD
BEGIN:DAYLIGHT
TZOFFSETFROM:-0800
TZOFFSETTO:-0700
TZNAME:PDT
DTSTART:20230312T100000
END:DAYLIGHT
BEGIN:STANDARD
TZOFFSETFROM:-0700
TZOFFSETTO:-0800
TZNAME:PST
DTSTART:20231105T090000
END:STANDARD
END:VTIMEZONE
BEGIN:VEVENT
DTSTART;TZID=America/Denver:20230714T090000
DTEND;TZID=America/Denver:20230714T160000
DTSTAMP:20260421T115959
CREATED:20230327T174713Z
LAST-MODIFIED:20230403T164704Z
UID:10000331-1689325200-1689350400@maestromusicinstitute.com
SUMMARY:Instrumental Music Camp
DESCRIPTION:We are bringing back our Instrumental Summer Camp this year which will cover a myriad of ensemble opportunities. We will be offering Rock Band\, Orchestra\, Choir/Theater\, Piano and composition. \n\nJOIN US! July 10 – 14\, 2023\n\n\nJuly 10 – 14\, 2023 : 9:00am to 4:00pm\n(drop off begins at 8:30am\, camp starts promptly at 9:00am)\n \nFinal Performance: July 14th at 3pm\nReception for campers and families will follow the performance. \nOPEN TO AGES 6 to 11\n \nCost: $400 ($200 non-refundable deposit due at the time of registration\, remaining balance due in 30 days.) \nAftercare Available: Yes! \nFor questions\, email info@maestromusicinstitute.com or call 720.251.2157.
URL:https://maestromusicinstitute.com/event/instrumental-music-camp-2/2023-07-14/
LOCATION:Historic Grant Ave.\, 216 S. Grant Street\,\, Denver\, Colorado\, 80209
CATEGORIES:Summer Camps
ATTACH;FMTTYPE=image/jpeg:https://maestromusicinstitute.com/wp-content/uploads/2023/01/iStock-1045440394.jpg
END:VEVENT
BEGIN:VEVENT
DTSTART;TZID=America/Denver:20230713T090000
DTEND;TZID=America/Denver:20230713T160000
DTSTAMP:20260421T115959
CREATED:20230327T174713Z
LAST-MODIFIED:20230403T164704Z
UID:10000330-1689238800-1689264000@maestromusicinstitute.com
SUMMARY:Instrumental Music Camp
DESCRIPTION:We are bringing back our Instrumental Summer Camp this year which will cover a myriad of ensemble opportunities. We will be offering Rock Band\, Orchestra\, Choir/Theater\, Piano and composition. \n\nJOIN US! July 10 – 14\, 2023\n\n\nJuly 10 – 14\, 2023 : 9:00am to 4:00pm\n(drop off begins at 8:30am\, camp starts promptly at 9:00am)\n \nFinal Performance: July 14th at 3pm\nReception for campers and families will follow the performance. \nOPEN TO AGES 6 to 11\n \nCost: $400 ($200 non-refundable deposit due at the time of registration\, remaining balance due in 30 days.) \nAftercare Available: Yes! \nFor questions\, email info@maestromusicinstitute.com or call 720.251.2157.
URL:https://maestromusicinstitute.com/event/instrumental-music-camp-2/2023-07-13/
LOCATION:Historic Grant Ave.\, 216 S. Grant Street\,\, Denver\, Colorado\, 80209
CATEGORIES:Summer Camps
ATTACH;FMTTYPE=image/jpeg:https://maestromusicinstitute.com/wp-content/uploads/2023/01/iStock-1045440394.jpg
END:VEVENT
BEGIN:VEVENT
DTSTART;TZID=America/Denver:20230712T090000
DTEND;TZID=America/Denver:20230712T160000
DTSTAMP:20260421T115959
CREATED:20230327T174713Z
LAST-MODIFIED:20230403T164704Z
UID:10000329-1689152400-1689177600@maestromusicinstitute.com
SUMMARY:Instrumental Music Camp
DESCRIPTION:We are bringing back our Instrumental Summer Camp this year which will cover a myriad of ensemble opportunities. We will be offering Rock Band\, Orchestra\, Choir/Theater\, Piano and composition. \n\nJOIN US! July 10 – 14\, 2023\n\n\nJuly 10 – 14\, 2023 : 9:00am to 4:00pm\n(drop off begins at 8:30am\, camp starts promptly at 9:00am)\n \nFinal Performance: July 14th at 3pm\nReception for campers and families will follow the performance. \nOPEN TO AGES 6 to 11\n \nCost: $400 ($200 non-refundable deposit due at the time of registration\, remaining balance due in 30 days.) \nAftercare Available: Yes! \nFor questions\, email info@maestromusicinstitute.com or call 720.251.2157.
URL:https://maestromusicinstitute.com/event/instrumental-music-camp-2/2023-07-12/
LOCATION:Historic Grant Ave.\, 216 S. Grant Street\,\, Denver\, Colorado\, 80209
CATEGORIES:Summer Camps
ATTACH;FMTTYPE=image/jpeg:https://maestromusicinstitute.com/wp-content/uploads/2023/01/iStock-1045440394.jpg
END:VEVENT
BEGIN:VEVENT
DTSTART;TZID=America/Denver:20230711T090000
DTEND;TZID=America/Denver:20230711T160000
DTSTAMP:20260421T115959
CREATED:20230327T174713Z
LAST-MODIFIED:20230403T164704Z
UID:10000328-1689066000-1689091200@maestromusicinstitute.com
SUMMARY:Instrumental Music Camp
DESCRIPTION:We are bringing back our Instrumental Summer Camp this year which will cover a myriad of ensemble opportunities. We will be offering Rock Band\, Orchestra\, Choir/Theater\, Piano and composition. \n\nJOIN US! July 10 – 14\, 2023\n\n\nJuly 10 – 14\, 2023 : 9:00am to 4:00pm\n(drop off begins at 8:30am\, camp starts promptly at 9:00am)\n \nFinal Performance: July 14th at 3pm\nReception for campers and families will follow the performance. \nOPEN TO AGES 6 to 11\n \nCost: $400 ($200 non-refundable deposit due at the time of registration\, remaining balance due in 30 days.) \nAftercare Available: Yes! \nFor questions\, email info@maestromusicinstitute.com or call 720.251.2157.
URL:https://maestromusicinstitute.com/event/instrumental-music-camp-2/2023-07-11/
LOCATION:Historic Grant Ave.\, 216 S. Grant Street\,\, Denver\, Colorado\, 80209
CATEGORIES:Summer Camps
ATTACH;FMTTYPE=image/jpeg:https://maestromusicinstitute.com/wp-content/uploads/2023/01/iStock-1045440394.jpg
END:VEVENT
BEGIN:VEVENT
DTSTART;TZID=America/Denver:20230710T090000
DTEND;TZID=America/Denver:20230710T160000
DTSTAMP:20260421T115959
CREATED:20230327T174713Z
LAST-MODIFIED:20230403T164704Z
UID:10000042-1688979600-1689004800@maestromusicinstitute.com
SUMMARY:Instrumental Music Camp
DESCRIPTION:We are bringing back our Instrumental Summer Camp this year which will cover a myriad of ensemble opportunities. We will be offering Rock Band\, Orchestra\, Choir/Theater\, Piano and composition. \n\nJOIN US! July 10 – 14\, 2023\n\n\nJuly 10 – 14\, 2023 : 9:00am to 4:00pm\n(drop off begins at 8:30am\, camp starts promptly at 9:00am)\n \nFinal Performance: July 14th at 3pm\nReception for campers and families will follow the performance. \nOPEN TO AGES 6 to 11\n \nCost: $400 ($200 non-refundable deposit due at the time of registration\, remaining balance due in 30 days.) \nAftercare Available: Yes! \nFor questions\, email info@maestromusicinstitute.com or call 720.251.2157.
URL:https://maestromusicinstitute.com/event/instrumental-music-camp-2/2023-07-10/
LOCATION:Historic Grant Ave.\, 216 S. Grant Street\,\, Denver\, Colorado\, 80209
CATEGORIES:Summer Camps
ATTACH;FMTTYPE=image/jpeg:https://maestromusicinstitute.com/wp-content/uploads/2023/01/iStock-1045440394.jpg
END:VEVENT
BEGIN:VEVENT
DTSTART;TZID=America/Denver:20230615T080000
DTEND;TZID=America/Denver:20230615T170000
DTSTAMP:20260421T115959
CREATED:20230403T164838Z
LAST-MODIFIED:20230403T164952Z
UID:10000569-1686816000-1686848400@maestromusicinstitute.com
SUMMARY:Deadline to Register for Summer Camp
DESCRIPTION:June 15th is the deadline to register for summer camp! \nWe are bringing back our Instrumental Summer Camp this year which will cover a myriad of ensemble opportunities. We will be offering Rock Band\, Orchestra\, Choir/Theater\, Piano and composition. \n\nJOIN US! July 10 – 14\, 2023\n\n\nJuly 10 – 14\, 2023 : 9:00am to 4:00pm\n(drop off begins at 8:30am\, camp starts promptly at 9:00am)\n \nFinal Performance: July 14th at 3pm\nReception for campers and families will follow the performance. \nOPEN TO AGES 6 to 11\n \nCost: $400 ($200 non-refundable deposit due at the time of registration\, remaining balance due in 30 days.) \nAftercare Available: Yes! \nFor questions\, email info@maestromusicinstitute.com or call 720.251.2157.
URL:https://maestromusicinstitute.com/event/deadline-to-register-for-summer-camp/
LOCATION:Historic Grant Ave.\, 216 S. Grant Street\,\, Denver\, Colorado\, 80209
CATEGORIES:Summer Camps
ATTACH;FMTTYPE=image/jpeg:https://maestromusicinstitute.com/wp-content/uploads/2023/01/iStock-1158971453.jpg
END:VEVENT
BEGIN:VEVENT
DTSTART;TZID=America/Denver:20221029T193000
DTEND;TZID=America/Denver:20221029T210000
DTSTAMP:20260421T115959
CREATED:20220928T171652Z
LAST-MODIFIED:20220928T172606Z
UID:10000037-1667071800-1667077200@maestromusicinstitute.com
SUMMARY:Fall Recital 3 - at 7:30pm
DESCRIPTION:Fall Recital – Recital 3 starts at 7:30 pm\nDenver Location: 216 S Grant Street in the Sanctuary
URL:https://maestromusicinstitute.com/event/fall-recital-recital-3-730pm/
LOCATION:Historic Grant Ave.\, 216 S. Grant Street\,\, Denver\, Colorado\, 80209
CATEGORIES:Recital
END:VEVENT
BEGIN:VEVENT
DTSTART;TZID=America/Denver:20221028T190000
DTEND;TZID=America/Denver:20221028T200000
DTSTAMP:20260421T115959
CREATED:20220928T172456Z
LAST-MODIFIED:20220928T172456Z
UID:10000038-1666983600-1666987200@maestromusicinstitute.com
SUMMARY:Fall Recital 2 - at 7 pm
DESCRIPTION:Fall Recital – Recital 2 at 7 pm – 8 pm\nDenver Location: 216 S Grant Street in the Sanctuary
URL:https://maestromusicinstitute.com/event/fall-recital-2-at-7-pm/
LOCATION:Historic Grant Ave.\, 216 S. Grant Street\,\, Denver\, Colorado\, 80209
END:VEVENT
BEGIN:VEVENT
DTSTART;TZID=America/Vancouver:20221028T173000
DTEND;TZID=America/Vancouver:20221028T183000
DTSTAMP:20260421T115959
CREATED:20220301T151512Z
LAST-MODIFIED:20220928T172255Z
UID:10000022-1666978200-1666981800@maestromusicinstitute.com
SUMMARY:Fall Recital - Recital 1
DESCRIPTION:October 28\, 2022 \nFall Recital – Recital 1 at 5:30 pm – 6:30pm
URL:https://maestromusicinstitute.com/event/fall-recital-general-530pm/
LOCATION:Historic Grant Ave.\, 216 S. Grant Street\,\, Denver\, Colorado\, 80209
CATEGORIES:Recital
END:VEVENT
BEGIN:VEVENT
DTSTART;TZID=America/Vancouver:20220429T190000
DTEND;TZID=America/Vancouver:20220429T200000
DTSTAMP:20260421T115959
CREATED:20220301T151358Z
LAST-MODIFIED:20220301T151358Z
UID:10000021-1651258800-1651262400@maestromusicinstitute.com
SUMMARY:Spring Recital - Auditioned 7:00pm
DESCRIPTION:Friday\, April 29\, 2022 \nAuditioned Recital: 7:00p
URL:https://maestromusicinstitute.com/event/spring-recital-auditioned-700pm/
LOCATION:Historic Grant Ave.\, 216 S. Grant Street\,\, Denver\, Colorado\, 80209
CATEGORIES:Recital
END:VEVENT
BEGIN:VEVENT
DTSTART;TZID=America/Vancouver:20220429T173000
DTEND;TZID=America/Vancouver:20220429T183000
DTSTAMP:20260421T115959
CREATED:20220301T151233Z
LAST-MODIFIED:20220301T151312Z
UID:10000020-1651253400-1651257000@maestromusicinstitute.com
SUMMARY:Spring Recital - General 5:30pm
DESCRIPTION:Friday\, April 29\, 2022 \nGeneral Recital at 5:30p
URL:https://maestromusicinstitute.com/event/spring-recital-general/
LOCATION:Historic Grant Ave.\, 216 S. Grant Street\,\, Denver\, Colorado\, 80209
CATEGORIES:Recital
END:VEVENT
BEGIN:VEVENT
DTSTART;VALUE=DATE:20220409
DTEND;VALUE=DATE:20220410
DTSTAMP:20260421T115959
CREATED:20220301T202428Z
LAST-MODIFIED:20220301T202428Z
UID:10000028-1649462400-1649548799@maestromusicinstitute.com
SUMMARY:Ensemble Intensives Final Performance - TBD
DESCRIPTION:
URL:https://maestromusicinstitute.com/event/ensemble-intensives-final-performance-tbd/
LOCATION:Historic Grant Ave.\, 216 S. Grant Street\,\, Denver\, Colorado\, 80209
CATEGORIES:Maestro Music Institute Events
END:VEVENT
BEGIN:VEVENT
DTSTART;TZID=America/Vancouver:20220402T100000
DTEND;TZID=America/Vancouver:20220402T105000
DTSTAMP:20260421T115959
CREATED:20220301T201714Z
LAST-MODIFIED:20220301T201714Z
UID:10000027-1648893600-1648896600@maestromusicinstitute.com
SUMMARY:Drum Set Proficiency Ensemble Intensive - 10:00am
DESCRIPTION:Are you interested in drumset or want to go more in-depth into what it takes to be a drummer? This six-week course will teach you all the fundamentals necessary to becoming a drummer. You will learn everything from the basics of how to hold a drum stick to the ins and outs of the basic rock and jazz beats that are used every day by drummers. This course will contain five weeks of instruction with a final concert in week six for you to show off your newly learned drumset skills! Whether you are new to music or if you’re an intermediate drummer yourself\, this course will help solidify your musical foundation as a drummer and give you that extra edge over other players. \nDrum Set Proficiency Ensemble Intensive\nClass Time: 10:00 – 10:50am\nSat\, March 5th – classes begin\nSat\, April 9th – final performance \n[av_button label=’REGISTER’ icon_select=’yes’ icon=’ue800′ font=’entypo-fontello’ link=’https://maestromusicinstitute.com/product/drum-set-proficiency-ensemble-intensive/’ link_target=” size=’small’ position=’left’ label_display=” title_attr=” color_options=” color=’theme-color’ custom_bg=’#444444′ custom_font=’#ffffff’ btn_color_bg=’theme-color’ btn_custom_grad_direction=’vertical’ btn_custom_grad_1=’#000000′ btn_custom_grad_2=’#ffffff’ btn_custom_grad_3=” btn_custom_grad_opacity=’0.7′ btn_custom_bg=’#444444′ btn_color_bg_hover=’theme-color-highlight’ btn_custom_bg_hover=’#444444′ btn_color_font=’theme-color’ btn_custom_font=’#ffffff’ btn_color_font_hover=’white’ btn_custom_font_hover=’#ffffff’ border=” border_width=” border_width_sync=’true’ border_color=” border_radius=” border_radius_sync=’true’ box_shadow=” box_shadow_style=’0px\,0px\,0px\,0px’ box_shadow_color=” hover_opacity=” sonar_effect_effect=” sonar_effect_color=” sonar_effect_duration=’1′ sonar_effect_scale=” sonar_effect_opac=’0.5′ id=” custom_class=” template_class=” av_uid=” sc_version=’1.0′ admin_preview_bg=”]
URL:https://maestromusicinstitute.com/event/drum-set-proficiency-ensemble-intensive-1000am/2022-04-02/
LOCATION:Historic Grant Ave.\, 216 S. Grant Street\,\, Denver\, Colorado\, 80209
CATEGORIES:Maestro Music Institute Events
ATTACH;FMTTYPE=image/jpeg:https://maestromusicinstitute.com/wp-content/uploads/2022/02/DrumPhoto.jpg
END:VEVENT
BEGIN:VEVENT
DTSTART;TZID=America/Vancouver:20220326T100000
DTEND;TZID=America/Vancouver:20220326T105000
DTSTAMP:20260421T115959
CREATED:20220301T201714Z
LAST-MODIFIED:20220301T201714Z
UID:10000026-1648288800-1648291800@maestromusicinstitute.com
SUMMARY:Drum Set Proficiency Ensemble Intensive - 10:00am
DESCRIPTION:Are you interested in drumset or want to go more in-depth into what it takes to be a drummer? This six-week course will teach you all the fundamentals necessary to becoming a drummer. You will learn everything from the basics of how to hold a drum stick to the ins and outs of the basic rock and jazz beats that are used every day by drummers. This course will contain five weeks of instruction with a final concert in week six for you to show off your newly learned drumset skills! Whether you are new to music or if you’re an intermediate drummer yourself\, this course will help solidify your musical foundation as a drummer and give you that extra edge over other players. \nDrum Set Proficiency Ensemble Intensive\nClass Time: 10:00 – 10:50am\nSat\, March 5th – classes begin\nSat\, April 9th – final performance \n[av_button label=’REGISTER’ icon_select=’yes’ icon=’ue800′ font=’entypo-fontello’ link=’https://maestromusicinstitute.com/product/drum-set-proficiency-ensemble-intensive/’ link_target=” size=’small’ position=’left’ label_display=” title_attr=” color_options=” color=’theme-color’ custom_bg=’#444444′ custom_font=’#ffffff’ btn_color_bg=’theme-color’ btn_custom_grad_direction=’vertical’ btn_custom_grad_1=’#000000′ btn_custom_grad_2=’#ffffff’ btn_custom_grad_3=” btn_custom_grad_opacity=’0.7′ btn_custom_bg=’#444444′ btn_color_bg_hover=’theme-color-highlight’ btn_custom_bg_hover=’#444444′ btn_color_font=’theme-color’ btn_custom_font=’#ffffff’ btn_color_font_hover=’white’ btn_custom_font_hover=’#ffffff’ border=” border_width=” border_width_sync=’true’ border_color=” border_radius=” border_radius_sync=’true’ box_shadow=” box_shadow_style=’0px\,0px\,0px\,0px’ box_shadow_color=” hover_opacity=” sonar_effect_effect=” sonar_effect_color=” sonar_effect_duration=’1′ sonar_effect_scale=” sonar_effect_opac=’0.5′ id=” custom_class=” template_class=” av_uid=” sc_version=’1.0′ admin_preview_bg=”]
URL:https://maestromusicinstitute.com/event/drum-set-proficiency-ensemble-intensive-1000am/2022-03-26/
LOCATION:Historic Grant Ave.\, 216 S. Grant Street\,\, Denver\, Colorado\, 80209
CATEGORIES:Maestro Music Institute Events
ATTACH;FMTTYPE=image/jpeg:https://maestromusicinstitute.com/wp-content/uploads/2022/02/DrumPhoto.jpg
END:VEVENT
BEGIN:VEVENT
DTSTART;TZID=America/Vancouver:20220319T100000
DTEND;TZID=America/Vancouver:20220319T105000
DTSTAMP:20260421T115959
CREATED:20220301T201714Z
LAST-MODIFIED:20220301T201714Z
UID:10000025-1647684000-1647687000@maestromusicinstitute.com
SUMMARY:Drum Set Proficiency Ensemble Intensive - 10:00am
DESCRIPTION:Are you interested in drumset or want to go more in-depth into what it takes to be a drummer? This six-week course will teach you all the fundamentals necessary to becoming a drummer. You will learn everything from the basics of how to hold a drum stick to the ins and outs of the basic rock and jazz beats that are used every day by drummers. This course will contain five weeks of instruction with a final concert in week six for you to show off your newly learned drumset skills! Whether you are new to music or if you’re an intermediate drummer yourself\, this course will help solidify your musical foundation as a drummer and give you that extra edge over other players. \nDrum Set Proficiency Ensemble Intensive\nClass Time: 10:00 – 10:50am\nSat\, March 5th – classes begin\nSat\, April 9th – final performance \n[av_button label=’REGISTER’ icon_select=’yes’ icon=’ue800′ font=’entypo-fontello’ link=’https://maestromusicinstitute.com/product/drum-set-proficiency-ensemble-intensive/’ link_target=” size=’small’ position=’left’ label_display=” title_attr=” color_options=” color=’theme-color’ custom_bg=’#444444′ custom_font=’#ffffff’ btn_color_bg=’theme-color’ btn_custom_grad_direction=’vertical’ btn_custom_grad_1=’#000000′ btn_custom_grad_2=’#ffffff’ btn_custom_grad_3=” btn_custom_grad_opacity=’0.7′ btn_custom_bg=’#444444′ btn_color_bg_hover=’theme-color-highlight’ btn_custom_bg_hover=’#444444′ btn_color_font=’theme-color’ btn_custom_font=’#ffffff’ btn_color_font_hover=’white’ btn_custom_font_hover=’#ffffff’ border=” border_width=” border_width_sync=’true’ border_color=” border_radius=” border_radius_sync=’true’ box_shadow=” box_shadow_style=’0px\,0px\,0px\,0px’ box_shadow_color=” hover_opacity=” sonar_effect_effect=” sonar_effect_color=” sonar_effect_duration=’1′ sonar_effect_scale=” sonar_effect_opac=’0.5′ id=” custom_class=” template_class=” av_uid=” sc_version=’1.0′ admin_preview_bg=”]
URL:https://maestromusicinstitute.com/event/drum-set-proficiency-ensemble-intensive-1000am/2022-03-19/
LOCATION:Historic Grant Ave.\, 216 S. Grant Street\,\, Denver\, Colorado\, 80209
CATEGORIES:Maestro Music Institute Events
ATTACH;FMTTYPE=image/jpeg:https://maestromusicinstitute.com/wp-content/uploads/2022/02/DrumPhoto.jpg
END:VEVENT
BEGIN:VEVENT
DTSTART;TZID=America/Vancouver:20220312T100000
DTEND;TZID=America/Vancouver:20220312T105000
DTSTAMP:20260421T115959
CREATED:20220301T201714Z
LAST-MODIFIED:20220301T201714Z
UID:10000024-1647079200-1647082200@maestromusicinstitute.com
SUMMARY:Drum Set Proficiency Ensemble Intensive - 10:00am
DESCRIPTION:Are you interested in drumset or want to go more in-depth into what it takes to be a drummer? This six-week course will teach you all the fundamentals necessary to becoming a drummer. You will learn everything from the basics of how to hold a drum stick to the ins and outs of the basic rock and jazz beats that are used every day by drummers. This course will contain five weeks of instruction with a final concert in week six for you to show off your newly learned drumset skills! Whether you are new to music or if you’re an intermediate drummer yourself\, this course will help solidify your musical foundation as a drummer and give you that extra edge over other players. \nDrum Set Proficiency Ensemble Intensive\nClass Time: 10:00 – 10:50am\nSat\, March 5th – classes begin\nSat\, April 9th – final performance \n[av_button label=’REGISTER’ icon_select=’yes’ icon=’ue800′ font=’entypo-fontello’ link=’https://maestromusicinstitute.com/product/drum-set-proficiency-ensemble-intensive/’ link_target=” size=’small’ position=’left’ label_display=” title_attr=” color_options=” color=’theme-color’ custom_bg=’#444444′ custom_font=’#ffffff’ btn_color_bg=’theme-color’ btn_custom_grad_direction=’vertical’ btn_custom_grad_1=’#000000′ btn_custom_grad_2=’#ffffff’ btn_custom_grad_3=” btn_custom_grad_opacity=’0.7′ btn_custom_bg=’#444444′ btn_color_bg_hover=’theme-color-highlight’ btn_custom_bg_hover=’#444444′ btn_color_font=’theme-color’ btn_custom_font=’#ffffff’ btn_color_font_hover=’white’ btn_custom_font_hover=’#ffffff’ border=” border_width=” border_width_sync=’true’ border_color=” border_radius=” border_radius_sync=’true’ box_shadow=” box_shadow_style=’0px\,0px\,0px\,0px’ box_shadow_color=” hover_opacity=” sonar_effect_effect=” sonar_effect_color=” sonar_effect_duration=’1′ sonar_effect_scale=” sonar_effect_opac=’0.5′ id=” custom_class=” template_class=” av_uid=” sc_version=’1.0′ admin_preview_bg=”]
URL:https://maestromusicinstitute.com/event/drum-set-proficiency-ensemble-intensive-1000am/2022-03-12/
LOCATION:Historic Grant Ave.\, 216 S. Grant Street\,\, Denver\, Colorado\, 80209
CATEGORIES:Maestro Music Institute Events
ATTACH;FMTTYPE=image/jpeg:https://maestromusicinstitute.com/wp-content/uploads/2022/02/DrumPhoto.jpg
END:VEVENT
BEGIN:VEVENT
DTSTART;TZID=America/Vancouver:20220305T100000
DTEND;TZID=America/Vancouver:20220305T105000
DTSTAMP:20260421T115959
CREATED:20220301T201714Z
LAST-MODIFIED:20220301T201714Z
UID:10000023-1646474400-1646477400@maestromusicinstitute.com
SUMMARY:Drum Set Proficiency Ensemble Intensive - 10:00am
DESCRIPTION:Are you interested in drumset or want to go more in-depth into what it takes to be a drummer? This six-week course will teach you all the fundamentals necessary to becoming a drummer. You will learn everything from the basics of how to hold a drum stick to the ins and outs of the basic rock and jazz beats that are used every day by drummers. This course will contain five weeks of instruction with a final concert in week six for you to show off your newly learned drumset skills! Whether you are new to music or if you’re an intermediate drummer yourself\, this course will help solidify your musical foundation as a drummer and give you that extra edge over other players. \nDrum Set Proficiency Ensemble Intensive\nClass Time: 10:00 – 10:50am\nSat\, March 5th – classes begin\nSat\, April 9th – final performance \n[av_button label=’REGISTER’ icon_select=’yes’ icon=’ue800′ font=’entypo-fontello’ link=’https://maestromusicinstitute.com/product/drum-set-proficiency-ensemble-intensive/’ link_target=” size=’small’ position=’left’ label_display=” title_attr=” color_options=” color=’theme-color’ custom_bg=’#444444′ custom_font=’#ffffff’ btn_color_bg=’theme-color’ btn_custom_grad_direction=’vertical’ btn_custom_grad_1=’#000000′ btn_custom_grad_2=’#ffffff’ btn_custom_grad_3=” btn_custom_grad_opacity=’0.7′ btn_custom_bg=’#444444′ btn_color_bg_hover=’theme-color-highlight’ btn_custom_bg_hover=’#444444′ btn_color_font=’theme-color’ btn_custom_font=’#ffffff’ btn_color_font_hover=’white’ btn_custom_font_hover=’#ffffff’ border=” border_width=” border_width_sync=’true’ border_color=” border_radius=” border_radius_sync=’true’ box_shadow=” box_shadow_style=’0px\,0px\,0px\,0px’ box_shadow_color=” hover_opacity=” sonar_effect_effect=” sonar_effect_color=” sonar_effect_duration=’1′ sonar_effect_scale=” sonar_effect_opac=’0.5′ id=” custom_class=” template_class=” av_uid=” sc_version=’1.0′ admin_preview_bg=”]
URL:https://maestromusicinstitute.com/event/drum-set-proficiency-ensemble-intensive-1000am/2022-03-05/
LOCATION:Historic Grant Ave.\, 216 S. Grant Street\,\, Denver\, Colorado\, 80209
CATEGORIES:Maestro Music Institute Events
ATTACH;FMTTYPE=image/jpeg:https://maestromusicinstitute.com/wp-content/uploads/2022/02/DrumPhoto.jpg
END:VEVENT
END:VCALENDAR